BEGIN:VCALENDAR
VERSION:2.0
PRODID:-//Weidener Städtepartnerschaften e.V. - ECPv6.15.20//NONSGML v1.0//EN
CALSCALE:GREGORIAN
METHOD:PUBLISH
X-ORIGINAL-URL:https://weidener-staedtepartnerschaften.de
X-WR-CALDESC:Veranstaltungen für Weidener Städtepartnerschaften e.V.
REFRESH-INTERVAL;VALUE=DURATION:PT1H
X-Robots-Tag:noindex
X-PUBLISHED-TTL:PT1H
BEGIN:VTIMEZONE
TZID:Europe/Berlin
BEGIN:DAYLIGHT
TZOFFSETFROM:+0100
TZOFFSETTO:+0200
TZNAME:CEST
DTSTART:20180325T010000
END:DAYLIGHT
BEGIN:STANDARD
TZOFFSETFROM:+0200
TZOFFSETTO:+0100
TZNAME:CET
DTSTART:20181028T010000
END:STANDARD
BEGIN:DAYLIGHT
TZOFFSETFROM:+0100
TZOFFSETTO:+0200
TZNAME:CEST
DTSTART:20190331T010000
END:DAYLIGHT
BEGIN:STANDARD
TZOFFSETFROM:+0200
TZOFFSETTO:+0100
TZNAME:CET
DTSTART:20191027T010000
END:STANDARD
BEGIN:DAYLIGHT
TZOFFSETFROM:+0100
TZOFFSETTO:+0200
TZNAME:CEST
DTSTART:20200329T010000
END:DAYLIGHT
BEGIN:STANDARD
TZOFFSETFROM:+0200
TZOFFSETTO:+0100
TZNAME:CET
DTSTART:20201025T010000
END:STANDARD
BEGIN:DAYLIGHT
TZOFFSETFROM:+0100
TZOFFSETTO:+0200
TZNAME:CEST
DTSTART:20210328T010000
END:DAYLIGHT
BEGIN:STANDARD
TZOFFSETFROM:+0200
TZOFFSETTO:+0100
TZNAME:CET
DTSTART:20211031T010000
END:STANDARD
BEGIN:DAYLIGHT
TZOFFSETFROM:+0100
TZOFFSETTO:+0200
TZNAME:CEST
DTSTART:20220327T010000
END:DAYLIGHT
BEGIN:STANDARD
TZOFFSETFROM:+0200
TZOFFSETTO:+0100
TZNAME:CET
DTSTART:20221030T010000
END:STANDARD
BEGIN:DAYLIGHT
TZOFFSETFROM:+0100
TZOFFSETTO:+0200
TZNAME:CEST
DTSTART:20230326T010000
END:DAYLIGHT
BEGIN:STANDARD
TZOFFSETFROM:+0200
TZOFFSETTO:+0100
TZNAME:CET
DTSTART:20231029T010000
END:STANDARD
BEGIN:DAYLIGHT
TZOFFSETFROM:+0100
TZOFFSETTO:+0200
TZNAME:CEST
DTSTART:20240331T010000
END:DAYLIGHT
BEGIN:STANDARD
TZOFFSETFROM:+0200
TZOFFSETTO:+0100
TZNAME:CET
DTSTART:20241027T010000
END:STANDARD
END:VTIMEZONE
BEGIN:VEVENT
DTSTART;TZID=Europe/Berlin:20230626T080000
DTEND;TZID=Europe/Berlin:20230626T170000
DTSTAMP:20260422T134038
CREATED:20230701T140146Z
LAST-MODIFIED:20230701T140629Z
UID:1143-1687766400-1687798800@weidener-staedtepartnerschaften.de
SUMMARY:Kursaisoneröffnung Marienbad 13.05.2023
DESCRIPTION:
URL:https://weidener-staedtepartnerschaften.de/veranstaltung/kursaisoneroeffnung-marienbad-13-05-2023/
END:VEVENT
BEGIN:VEVENT
DTSTART;TZID=Europe/Berlin:20191201T090000
DTEND;TZID=Europe/Berlin:20191201T180000
DTSTAMP:20260422T134038
CREATED:20200308T141127Z
LAST-MODIFIED:20230629T111844Z
UID:6-1575190800-1575223200@weidener-staedtepartnerschaften.de
SUMMARY:Fahrt zu einem Weihnachtsmarkt in Tschechien (Genaues Datum wird noch bekannt gegeben.)
DESCRIPTION:
URL:https://weidener-staedtepartnerschaften.de/veranstaltung/fahrt-zu-einem-weihnachtsmarkt-in-tschechien-genaues-datum-wird-noch-bekannt-gegeben/
END:VEVENT
BEGIN:VEVENT
DTSTART;TZID=Europe/Berlin:20191018T103000
DTEND;TZID=Europe/Berlin:20191018T170000
DTSTAMP:20260422T134038
CREATED:20200308T141814Z
LAST-MODIFIED:20200308T141814Z
UID:8-1571394600-1571418000@weidener-staedtepartnerschaften.de
SUMMARY:Weinquartett aus Weiden am See im City-Center-Weiden
DESCRIPTION:Das Weinquartett aus Weiden am See ist am Freitag\, 18. Oktober und Samstag\, 19. Oktober 2019 im City-Center-Weiden\, Max-Reger-Straße\, zur Weinverkosttung. Der Verein empfängt die Weinbauern aus Weiden am See.
URL:https://weidener-staedtepartnerschaften.de/veranstaltung/weinquartett-aus-weiden-am-see-im-city-center-weiden/
END:VEVENT
BEGIN:VEVENT
DTSTART;TZID=Europe/Berlin:20191016T190000
DTEND;TZID=Europe/Berlin:20191016T230000
DTSTAMP:20260422T134038
CREATED:20200308T141815Z
LAST-MODIFIED:20200308T141815Z
UID:10-1571252400-1571266800@weidener-staedtepartnerschaften.de
SUMMARY:Filmabend "Issy-les-Moulineaux 2019"
DESCRIPTION:Filmabend über die Fahrt nach Issy-les-Moulineaux im April 2019\, Film von Peter Fischer\, 19.00 Uhr\, Kulturzentrum „Hans Bauer“\, Schulgasse 3a\, anschließend Informationsaustausch
URL:https://weidener-staedtepartnerschaften.de/veranstaltung/filmabend-issy-les-moulineaux-2019/
END:VEVENT
BEGIN:VEVENT
DTSTART;TZID=Europe/Berlin:20191003T080000
DTEND;TZID=Europe/Berlin:20191003T170000
DTSTAMP:20260422T134038
CREATED:20200308T141817Z
LAST-MODIFIED:20200308T141817Z
UID:12-1570089600-1570122000@weidener-staedtepartnerschaften.de
SUMMARY:Tag der Deutschen Einheit - Feier in der Partnerstadt Annaberg-Buchholz
DESCRIPTION:
URL:https://weidener-staedtepartnerschaften.de/veranstaltung/tag-der-deutschen-einheit-feier-in-der-partnerstadt-annaberg-buchholz/
END:VEVENT
BEGIN:VEVENT
DTSTART;TZID=Europe/Berlin:20191001T080000
DTEND;TZID=Europe/Berlin:20200308T170000
DTSTAMP:20260422T134038
CREATED:20200308T141818Z
LAST-MODIFIED:20200308T141818Z
UID:14-1569916800-1583686800@weidener-staedtepartnerschaften.de
SUMMARY:Tagesfahrt zum Truppenübungsplatz Grafenwöhr
DESCRIPTION:Genaues Datum wird noch bekannt gegegeben.
URL:https://weidener-staedtepartnerschaften.de/veranstaltung/tagesfahrt-zum-truppenuebungsplatz-grafenwoehr/
END:VEVENT
BEGIN:VEVENT
DTSTART;TZID=Europe/Berlin:20190921T080000
DTEND;TZID=Europe/Berlin:20190921T170000
DTSTAMP:20260422T134038
CREATED:20200308T141716Z
LAST-MODIFIED:20200308T141716Z
UID:16-1569052800-1569085200@weidener-staedtepartnerschaften.de
SUMMARY:Freundschaftsfest Stadtmarketing Weiden
DESCRIPTION:Mitten in der Innenstadt
URL:https://weidener-staedtepartnerschaften.de/veranstaltung/freundschaftsfest-stadtmarketing-weiden/
END:VEVENT
BEGIN:VEVENT
DTSTART;TZID=Europe/Berlin:20190908T150000
DTEND;TZID=Europe/Berlin:20200308T220000
DTSTAMP:20260422T134038
CREATED:20200308T141756Z
LAST-MODIFIED:20230701T040816Z
UID:18-1567954800-1583704800@weidener-staedtepartnerschaften.de
SUMMARY:Konzertfahrt nach Heiligen (Tachau)
DESCRIPTION:Konzertfahrt in die Reithalle Heiligen bei Tachau\, Sommer-Musikfestival\, 15.00 Uhr\, Pavel Sporcl und Gipsy Way Ensemble\, anschließend Weiterfahrt zum Abendessen in Böhmen.
URL:https://weidener-staedtepartnerschaften.de/veranstaltung/konzertfahrt-nach-heiligen-tachau/
END:VEVENT
END:VCALENDAR